BEGIN:VCALENDAR
VERSION:2.0
PRODID:-//MDNSW - ECPv6.15.18//NONSGML v1.0//EN
CALSCALE:GREGORIAN
METHOD:PUBLISH
X-ORIGINAL-URL:https://mdnsw.org.au
X-WR-CALDESC:Events for MDNSW
REFRESH-INTERVAL;VALUE=DURATION:PT1H
X-Robots-Tag:noindex
X-PUBLISHED-TTL:PT1H
BEGIN:VTIMEZONE
TZID:UTC
BEGIN:STANDARD
TZOFFSETFROM:+0000
TZOFFSETTO:+0000
TZNAME:UTC
DTSTART:20240101T000000
END:STANDARD
END:VTIMEZONE
BEGIN:VEVENT
DTSTART;TZID=UTC:20251007T190000
DTEND;TZID=UTC:20251007T200000
DTSTAMP:20260422T004317
CREATED:20250902T021652Z
LAST-MODIFIED:20250902T032501Z
UID:10000044-1759863600-1759867200@mdnsw.org.au
SUMMARY:LGMD Connect
DESCRIPTION:
URL:https://mdnsw.org.au/event/lgmd-connect/
CATEGORIES:Online
ATTACH;FMTTYPE=image/png:https://mdnsw.org.au/wp-content/uploads/2025/09/LGMD-Connect.png
END:VEVENT
END:VCALENDAR