BEGIN:VCALENDAR
VERSION:2.0
PRODID:-//MDNSW - ECPv6.15.18//NONSGML v1.0//EN
CALSCALE:GREGORIAN
METHOD:PUBLISH
X-ORIGINAL-URL:https://mdnsw.org.au
X-WR-CALDESC:Events for MDNSW
REFRESH-INTERVAL;VALUE=DURATION:PT1H
X-Robots-Tag:noindex
X-PUBLISHED-TTL:PT1H
BEGIN:VTIMEZONE
TZID:UTC
BEGIN:STANDARD
TZOFFSETFROM:+0000
TZOFFSETTO:+0000
TZNAME:UTC
DTSTART:20250101T000000
END:STANDARD
END:VTIMEZONE
BEGIN:VEVENT
DTSTART;TZID=UTC:20260214T120000
DTEND;TZID=UTC:20260214T150000
DTSTAMP:20260421T183758
CREATED:20250624T073137Z
LAST-MODIFIED:20260209T041637Z
UID:10000040-1771070400-1771081200@mdnsw.org.au
SUMMARY:Connection Lunch: Love Your Peers
DESCRIPTION:
URL:https://mdnsw.org.au/event/peer-connection-lunch/
LOCATION:Club Parramatta\, 2 Macquarie St\, Parramatta\, NSW\, 2150\, Australia
CATEGORIES:In-Person
ATTACH;FMTTYPE=image/jpeg:https://mdnsw.org.au/wp-content/uploads/2025/06/Love-Your-Peers-e1767760744400.jpg
END:VEVENT
END:VCALENDAR