BEGIN:VCALENDAR
VERSION:2.0
PRODID:-//MDNSW - ECPv6.15.18//NONSGML v1.0//EN
CALSCALE:GREGORIAN
METHOD:PUBLISH
X-WR-CALNAME:MDNSW
X-ORIGINAL-URL:https://mdnsw.org.au
X-WR-CALDESC:Events for MDNSW
REFRESH-INTERVAL;VALUE=DURATION:PT1H
X-Robots-Tag:noindex
X-PUBLISHED-TTL:PT1H
BEGIN:VTIMEZONE
TZID:UTC
BEGIN:STANDARD
TZOFFSETFROM:+0000
TZOFFSETTO:+0000
TZNAME:UTC
DTSTART:20250101T000000
END:STANDARD
END:VTIMEZONE
BEGIN:VEVENT
DTSTART;TZID=UTC:20260419T120000
DTEND;TZID=UTC:20260419T150000
DTSTAMP:20260421T153900
CREATED:20260107T050505Z
LAST-MODIFIED:20260310T234531Z
UID:10000055-1776600000-1776610800@mdnsw.org.au
SUMMARY:Central West Meet Up
DESCRIPTION:
URL:https://mdnsw.org.au/event/central-west/
LOCATION:Orange\, NSW\, Australia
CATEGORIES:In-Person
ATTACH;FMTTYPE=image/png:https://mdnsw.org.au/wp-content/uploads/2026/01/2026-PC-Tile-IMG-Central-West.png
END:VEVENT
END:VCALENDAR