BEGIN:VCALENDAR
VERSION:2.0
PRODID:-//MDNSW - ECPv6.15.18//NONSGML v1.0//EN
CALSCALE:GREGORIAN
METHOD:PUBLISH
X-ORIGINAL-URL:https://mdnsw.org.au
X-WR-CALDESC:Events for MDNSW
REFRESH-INTERVAL;VALUE=DURATION:PT1H
X-Robots-Tag:noindex
X-PUBLISHED-TTL:PT1H
BEGIN:VTIMEZONE
TZID:UTC
BEGIN:STANDARD
TZOFFSETFROM:+0000
TZOFFSETTO:+0000
TZNAME:UTC
DTSTART:20250101T000000
END:STANDARD
END:VTIMEZONE
BEGIN:VEVENT
DTSTART;TZID=UTC:20260505T190000
DTEND;TZID=UTC:20260505T200000
DTSTAMP:20260421T171016
CREATED:20260310T070929Z
LAST-MODIFIED:20260310T070929Z
UID:10000073-1778007600-1778011200@mdnsw.org.au
SUMMARY:LGMD Connect
DESCRIPTION:
URL:https://mdnsw.org.au/event/lgmd-connect-2026/
CATEGORIES:Online
ATTACH;FMTTYPE=image/png:https://mdnsw.org.au/wp-content/uploads/2026/03/2026-PC-Tile-IMG-LGMD.png
END:VEVENT
END:VCALENDAR