BEGIN:VCALENDAR
VERSION:2.0
PRODID:-//MDNSW - ECPv6.15.18//NONSGML v1.0//EN
CALSCALE:GREGORIAN
METHOD:PUBLISH
X-WR-CALNAME:MDNSW
X-ORIGINAL-URL:https://mdnsw.org.au
X-WR-CALDESC:Events for MDNSW
REFRESH-INTERVAL;VALUE=DURATION:PT1H
X-Robots-Tag:noindex
X-PUBLISHED-TTL:PT1H
BEGIN:VTIMEZONE
TZID:UTC
BEGIN:STANDARD
TZOFFSETFROM:+0000
TZOFFSETTO:+0000
TZNAME:UTC
DTSTART:20250101T000000
END:STANDARD
END:VTIMEZONE
BEGIN:VEVENT
DTSTART;TZID=UTC:20260507T160000
DTEND;TZID=UTC:20260507T170000
DTSTAMP:20260421T170538
CREATED:20260120T061150Z
LAST-MODIFIED:20260209T041704Z
UID:10000058-1778169600-1778173200@mdnsw.org.au
SUMMARY:Power Hour
DESCRIPTION:
URL:https://mdnsw.org.au/event/power-hour-2026-2/2026-05-07/
CATEGORIES:Online
ATTACH;FMTTYPE=image/jpeg:https://mdnsw.org.au/wp-content/uploads/2026/01/Power-Hour-scaled-e1767762712235.jpg
END:VEVENT
END:VCALENDAR