BEGIN:VCALENDAR
VERSION:2.0
PRODID:-//MDNSW - ECPv6.15.18//NONSGML v1.0//EN
CALSCALE:GREGORIAN
METHOD:PUBLISH
X-WR-CALNAME:MDNSW
X-ORIGINAL-URL:https://mdnsw.org.au
X-WR-CALDESC:Events for MDNSW
REFRESH-INTERVAL;VALUE=DURATION:PT1H
X-Robots-Tag:noindex
X-PUBLISHED-TTL:PT1H
BEGIN:VTIMEZONE
TZID:UTC
BEGIN:STANDARD
TZOFFSETFROM:+0000
TZOFFSETTO:+0000
TZNAME:UTC
DTSTART:20250101T000000
END:STANDARD
END:VTIMEZONE
BEGIN:VEVENT
DTSTART;VALUE=DATE:20260529
DTEND;VALUE=DATE:20260602
DTSTAMP:20260421T183402
CREATED:20260209T230514Z
LAST-MODIFIED:20260210T220356Z
UID:10000067-1780012800-1780358399@mdnsw.org.au
SUMMARY:Young Adults Retreat - May-Jun 2026
DESCRIPTION:
URL:https://mdnsw.org.au/event/young-adults-retreat-may-2026/
LOCATION:Sydney Academy of Sport and Recreation\, Wakehurst Parkway\, Narrabeen\, NSW\, 2101\, Australia
CATEGORIES:In-Person
ATTACH;FMTTYPE=image/jpeg:https://mdnsw.org.au/wp-content/uploads/2025/07/YA-Retreat-e1767762631423.jpeg
END:VEVENT
END:VCALENDAR