BEGIN:VCALENDAR
VERSION:2.0
PRODID:-//MDNSW - ECPv6.15.18//NONSGML v1.0//EN
CALSCALE:GREGORIAN
METHOD:PUBLISH
X-WR-CALNAME:MDNSW
X-ORIGINAL-URL:https://mdnsw.org.au
X-WR-CALDESC:Events for MDNSW
REFRESH-INTERVAL;VALUE=DURATION:PT1H
X-Robots-Tag:noindex
X-PUBLISHED-TTL:PT1H
BEGIN:VTIMEZONE
TZID:UTC
BEGIN:STANDARD
TZOFFSETFROM:+0000
TZOFFSETTO:+0000
TZNAME:UTC
DTSTART:20250101T000000
END:STANDARD
END:VTIMEZONE
BEGIN:VEVENT
DTSTART;TZID=UTC:20260630T190000
DTEND;TZID=UTC:20260630T203000
DTSTAMP:20260421T185533
CREATED:20260310T233638Z
LAST-MODIFIED:20260310T233638Z
UID:10000079-1782846000-1782851400@mdnsw.org.au
SUMMARY:InfoShare: Cost of Living with a Disability
DESCRIPTION:
URL:https://mdnsw.org.au/event/infoshare-cost-of-living-with-a-disability/
CATEGORIES:Online
ATTACH;FMTTYPE=image/png:https://mdnsw.org.au/wp-content/uploads/2026/03/2026-PC-Tile-IMG-InfoShare.png
END:VEVENT
END:VCALENDAR