BEGIN:VCALENDAR
VERSION:2.0
PRODID:-//MDNSW - ECPv6.15.18//NONSGML v1.0//EN
CALSCALE:GREGORIAN
METHOD:PUBLISH
X-ORIGINAL-URL:https://mdnsw.org.au
X-WR-CALDESC:Events for MDNSW
REFRESH-INTERVAL;VALUE=DURATION:PT1H
X-Robots-Tag:noindex
X-PUBLISHED-TTL:PT1H
BEGIN:VTIMEZONE
TZID:UTC
BEGIN:STANDARD
TZOFFSETFROM:+0000
TZOFFSETTO:+0000
TZNAME:UTC
DTSTART:20240101T000000
END:STANDARD
END:VTIMEZONE
BEGIN:VEVENT
DTSTART;VALUE=DATE:20251031
DTEND;VALUE=DATE:20251103
DTSTAMP:20260421T213830
CREATED:20250624T064312Z
LAST-MODIFIED:20250902T024349Z
UID:10000019-1761868800-1762127999@mdnsw.org.au
SUMMARY:Women's Retreat - October 2025
DESCRIPTION:
URL:https://mdnsw.org.au/event/womens-retreat-october-2025/
LOCATION:Rydges Newcastle\, Wharf Rd and Merewether S\, Newcastle\, NSW\, 2300
CATEGORIES:In-Person
ATTACH;FMTTYPE=image/jpeg:https://mdnsw.org.au/wp-content/uploads/2025/06/Womens-Retreat-e1750747031139.jpg
END:VEVENT
BEGIN:VEVENT
DTSTART;TZID=UTC:20251113T160000
DTEND;TZID=UTC:20251113T170000
DTSTAMP:20260421T213830
CREATED:20250624T065815Z
LAST-MODIFIED:20250624T072708Z
UID:10000024-1763049600-1763053200@mdnsw.org.au
SUMMARY:Power Hour
DESCRIPTION:
URL:https://mdnsw.org.au/event/power-hour/2025-11-13/
CATEGORIES:Online
ATTACH;FMTTYPE=image/jpeg:https://mdnsw.org.au/wp-content/uploads/2025/06/Power-Hour-scaled-e1750747945964.jpg
END:VEVENT
BEGIN:VEVENT
DTSTART;VALUE=DATE:20251114
DTEND;VALUE=DATE:20251118
DTSTAMP:20260421T213830
CREATED:20250624T055807Z
LAST-MODIFIED:20250703T002347Z
UID:10000017-1763078400-1763423999@mdnsw.org.au
SUMMARY:Young Adults Retreat - November 2025
DESCRIPTION:
URL:https://mdnsw.org.au/event/young-adults-retreat-november-2025/
LOCATION:Atura\, Blacktown\, 32 Cricketers Arms Rd\, Prospect\, NSW\, 2148\, Australia
CATEGORIES:In-Person
ATTACH;FMTTYPE=image/jpeg:https://mdnsw.org.au/wp-content/uploads/2025/06/YA-Retreat-e1750745099673.jpeg
END:VEVENT
BEGIN:VEVENT
DTSTART;TZID=UTC:20251129T110000
DTEND;TZID=UTC:20251129T140000
DTSTAMP:20260421T213830
CREATED:20251008T012540Z
LAST-MODIFIED:20251008T053421Z
UID:10000046-1764414000-1764424800@mdnsw.org.au
SUMMARY:Community Day 2025
DESCRIPTION:
URL:https://mdnsw.org.au/event/community-day-2025/
LOCATION:The Granville Centre\, 2a Memorial Dr\, Granville\, NSW\, 2142\, Australia
CATEGORIES:In-Person
ATTACH;FMTTYPE=image/jpeg:https://mdnsw.org.au/wp-content/uploads/2025/10/Community-Day-scaled-e1759886641313.jpg
END:VEVENT
END:VCALENDAR